BEGIN:VCALENDAR
VERSION:2.0
PRODID:-//The Internatıonal Propeller Club of the U.S — Port of Istanbul, Turkey - ECPv6.15.12.2//NONSGML v1.0//EN
CALSCALE:GREGORIAN
METHOD:PUBLISH
X-WR-CALNAME:The Internatıonal Propeller Club of the U.S — Port of Istanbul, Turkey
X-ORIGINAL-URL:https://propeller-club.org.tr
X-WR-CALDESC:Events for The Internatıonal Propeller Club of the U.S — Port of Istanbul, Turkey
REFRESH-INTERVAL;VALUE=DURATION:PT1H
X-Robots-Tag:noindex
X-PUBLISHED-TTL:PT1H
BEGIN:VTIMEZONE
TZID:Europe/Moscow
BEGIN:STANDARD
TZOFFSETFROM:+0300
TZOFFSETTO:+0300
TZNAME:MSK
DTSTART:20250101T000000
END:STANDARD
END:VTIMEZONE
BEGIN:VEVENT
DTSTART;TZID=Europe/Moscow:20260430T120000
DTEND;TZID=Europe/Moscow:20260430T153000
DTSTAMP:20260419T145307
CREATED:20260417T100038Z
LAST-MODIFIED:20260416T181828Z
UID:5883-1777550400-1777563000@propeller-club.org.tr
SUMMARY:Strategic Perspectives and Historical Depth in Istanbul
DESCRIPTION:As Propeller Club Port of Istanbul\, we are pleased to invite you to a distinguished gathering where\, in a time of redefining global balances\, maritime security\, energy supply resilience\, and the future of international trade will be addressed within a strategic framework. \nDuring the luncheon\, we will have the privilege of hosting Admiral Cem Gürdeniz\, one of the most prominent figures of the Turkish Naval Forces and the architect of the “Blue Homeland” doctrine. His keynote address\, “From Hormuz to Suez\, from the Straits to the Mediterranean: Türkiye in the Global Security Equation\,” will offer a considered perspective on Türkiye’s maritime positioning and the evolving geopolitical landscape across its surrounding regions. \nOur gathering will take place at Muutto Anatolian Tapas Bar\, featured in the 2026 Michelin Guide\, where a refined menu curated by award-winning Chef Umut Karakuş—under his “migration cuisine” concept—will complement the occasion. \n⚓ Following the luncheon\, and with separate participation\, we will visit the İstanbul Şehir Hatları Haliç Shipyard. With a history spanning 571 years\, the Haliç Shipyard stands as one of the rare industrial sites defined by continuity rather than preservation alone. Still actively operating today\, it represents a unique convergence of heritage and forward-looking transformation. This visit offers a distinctive extension to the day\, bringing historical depth to the strategic discussions. \n📅 Programme Flow \n12:00 – 13:30 | Luncheon & Keynote – Muutto Anatolian Tapas Bar (Galataport) \n13:45 – 15:30 | Haliç Shipyard Visit – Galataport-Haliç Shipyard-Galataport (Sea Taxi Transfer) \n📩 Kindly confirm your attendance by 24 April 2026: propeller@propeller-club.org.tr \n 
URL:https://propeller-club.org.tr/event/strategic-perspectives-and-historical-depth-in-istanbul/
CATEGORIES:2026
ATTACH;FMTTYPE=image/jpeg:https://propeller-club.org.tr/wp-content/uploads/2026/04/CEM-GURDENIZ-1-.jpg
END:VEVENT
END:VCALENDAR